BEGIN:VCALENDAR
VERSION:2.0
PRODID:-//Local News 8 Events - ECPv6.15.20//NONSGML v1.0//EN
CALSCALE:GREGORIAN
METHOD:PUBLISH
X-ORIGINAL-URL:https://events.localnews8.com
X-WR-CALDESC:Events for Local News 8 Events
REFRESH-INTERVAL;VALUE=DURATION:PT1H
X-Robots-Tag:noindex
X-PUBLISHED-TTL:PT1H
BEGIN:VTIMEZONE
TZID:America/Denver
BEGIN:DAYLIGHT
TZOFFSETFROM:-0700
TZOFFSETTO:-0600
TZNAME:MDT
DTSTART:20250309T090000
END:DAYLIGHT
BEGIN:STANDARD
TZOFFSETFROM:-0600
TZOFFSETTO:-0700
TZNAME:MST
DTSTART:20251102T080000
END:STANDARD
BEGIN:DAYLIGHT
TZOFFSETFROM:-0700
TZOFFSETTO:-0600
TZNAME:MDT
DTSTART:20260308T090000
END:DAYLIGHT
BEGIN:STANDARD
TZOFFSETFROM:-0600
TZOFFSETTO:-0700
TZNAME:MST
DTSTART:20261101T080000
END:STANDARD
BEGIN:DAYLIGHT
TZOFFSETFROM:-0700
TZOFFSETTO:-0600
TZNAME:MDT
DTSTART:20270314T090000
END:DAYLIGHT
BEGIN:STANDARD
TZOFFSETFROM:-0600
TZOFFSETTO:-0700
TZNAME:MST
DTSTART:20271107T080000
END:STANDARD
END:VTIMEZONE
BEGIN:VEVENT
DTSTART;TZID=America/Denver:20260508T100000
DTEND;TZID=America/Denver:20260508T150000
DTSTAMP:20260424T031340
CREATED:20260413T150118Z
LAST-MODIFIED:20260413T150118Z
UID:10077-1778234400-1778252400@events.localnews8.com
SUMMARY:Empower U Women's Leadership Experience
DESCRIPTION:This is NOT your typical leadership event.\n\nAnd it’s definitely not another sit-and-take-notes- and-yawn-your-eyeballs out seminar.\n\nEmpower U is an interactive\, powerful\, in-person experience designed for women who are ready to grow\, from the inside out.\n\nIt feels like a girls’ day out…but you leave with something much deeper.\n\nYou’ll connect with incredible women\, gain real tools you can actually use\, we’ll laugh together\, have deep discussions\, and you’ll walk away feeling more grounded\, confident\, and clear.\n\nIf you’re looking for a place that sets aside competition while we connect\, sharpen our skills and have a blast doing it. . . this is your space.\n\nCome as you are.Leave more powerful.\n\nAt Empower U\, we believe that when we empower women\, we strengthen our families\, businesses and communities.\n\nReserve Your Seat: https://LetsEmpowerU.Com\n\n——Speaker list includes:\n\nCharity Haderlie Angie LionShantay BloxhamElisa Mendoza\n\n Panelists Include:Ramina WilkersonRebecca ReevesMaria AlvarezHailey Lima\n\n\nProudly Supported by:\nIdaho Falls Community HospitalBlue Phoenix Branding by Pro FormaGreater Idaho Falls Chamber of Commerce\nAshley FurnitureIdaho Kidney InstituteSalt River InvestmentsSTEELE-N-Jo’s Bone\nMassive ImpactSun Tan CityRise and Grow with Amanda JoInner Light Esthetics by JaneceSonido Turbulencia
URL:https://events.localnews8.com/event/empower-u-womens-leadership-experience/
LOCATION:Boneville County Activity Center\, 1542 E 73rd S\, Idaho Falls\, ID\, 83404\, United States
CATEGORIES:Community,Education,Other
ATTACH;FMTTYPE=image/png:https://events.localnews8.com/wp-content/uploads/2026/04/Empower-U-Womens-Leadership-Event-Idaho-Falls-1-scaled.png
ORGANIZER;CN="Charity Haderlie":MAILTO:charityhaderlie@gmail.com
END:VEVENT
BEGIN:VEVENT
DTSTART;TZID=America/Denver:20260512T173000
DTEND;TZID=America/Denver:20260512T193000
DTSTAMP:20260424T031340
CREATED:20260317T165505Z
LAST-MODIFIED:20260317T165505Z
UID:9805-1778607000-1778614200@events.localnews8.com
SUMMARY:"The Art of Adventure" Free Film Screening
DESCRIPTION:Join us on Tuesday\, May 12\, in the Museum’s Cook Auditorium for a free screening of an inspiring documentary about the lifelong friendship between wildlife artist Robert Bateman and biologist Bristol Foster. \n\n\nThe Art of Adventure is an inspiring and deeply human documentary about the extraordinary lifelong friendship between world-renowned wildlife artist Robert Bateman and fearless biologist Bristol Foster. Through their epic 1957 journey around the world—armed with a 16mm camera and an artist’s brush—the film opens a vivid window onto a planet once wild and unscarred and a bond formed through curiosity\, courage\, and love of nature. \nAt its heart\, the film weaves together nature\, art\, and activism showing how two very different men fought to protect the natural world: one through art\, the other through science. Now in their 90’s Bob and Bristol still find sanctuary in nature. Their story is a moving reflection on legacy\, mortality\, and the wisdom of our elders—and a reminder that humanity and nature are inseparable. The Art of Adventure invites us to listen\, to learn\, and to embrace life with curiosity\, courage\, and heart. \nBristol and Bob’s curiosity\, courage\, and creativity make environmental stewardship feel accessible\, exciting—and deeply human. With this spirit top of mind—The Art of Adventure passes the torch to a new generation—showing young people that protecting the planet can begin with curiosity\, creativity\, and a willingness to explore. At a time when both nature and cultural vitality are top of mind their story reminds us of who we are\, what we value\, and what is still worth protecting. \nThere will be a Q&A following the screening with the film director\, Alison Reid. Artist Robert Bateman and biologist Bristol Foster will join remotely via Zoom to answer questions. \nReserve your spot now! 
URL:https://events.localnews8.com/event/the-art-of-adventure-free-film-screening/
LOCATION:National Museum of Wildlife Art\, 2820 Rungius Road\, Jackson\, WY\, 83001
CATEGORIES:Art and Exhibits,Community,Education
ATTACH;FMTTYPE=image/png:https://events.localnews8.com/wp-content/uploads/2026/03/film-poster-.png
END:VEVENT
BEGIN:VEVENT
DTSTART;TZID=America/Denver:20260515T113000
DTEND;TZID=America/Denver:20260515T120000
DTSTAMP:20260424T031340
CREATED:20260414T213023Z
LAST-MODIFIED:20260414T213023Z
UID:10110-1778844600-1778846400@events.localnews8.com
SUMMARY:Sneak Peek of "Bison-tennial: From Colonization to Rematriation"
DESCRIPTION:FREE to Museum members and included in the cost of general admission.\nThis is an exciting opportunity to preview a new exhibit prior to its public opening. \nJoin us for a preview of our new exhibit Bison-tennial: From Colonization to Rematriation. Sugden Chief Curator of Education Kelly Fried will give attendees a first look at this exciting exhibition. \nSneak Peek attendees receive 10% off in Palate restaurant when dining for lunch after the event!
URL:https://events.localnews8.com/event/sneak-peek-of-bison-tennial-from-colonization-to-rematriation/
CATEGORIES:Community,Education
ATTACH;FMTTYPE=image/jpeg:https://events.localnews8.com/wp-content/uploads/2026/04/Foster_Sneak_Peak-7-scaled.jpg
END:VEVENT
END:VCALENDAR