BEGIN:VCALENDAR
VERSION:2.0
PRODID:-//Local News 8 Events - ECPv6.15.20//NONSGML v1.0//EN
CALSCALE:GREGORIAN
METHOD:PUBLISH
X-ORIGINAL-URL:https://events.localnews8.com
X-WR-CALDESC:Events for Local News 8 Events
REFRESH-INTERVAL;VALUE=DURATION:PT1H
X-Robots-Tag:noindex
X-PUBLISHED-TTL:PT1H
BEGIN:VTIMEZONE
TZID:America/Denver
BEGIN:DAYLIGHT
TZOFFSETFROM:-0700
TZOFFSETTO:-0600
TZNAME:MDT
DTSTART:20250309T090000
END:DAYLIGHT
BEGIN:STANDARD
TZOFFSETFROM:-0600
TZOFFSETTO:-0700
TZNAME:MST
DTSTART:20251102T080000
END:STANDARD
BEGIN:DAYLIGHT
TZOFFSETFROM:-0700
TZOFFSETTO:-0600
TZNAME:MDT
DTSTART:20260308T090000
END:DAYLIGHT
BEGIN:STANDARD
TZOFFSETFROM:-0600
TZOFFSETTO:-0700
TZNAME:MST
DTSTART:20261101T080000
END:STANDARD
BEGIN:DAYLIGHT
TZOFFSETFROM:-0700
TZOFFSETTO:-0600
TZNAME:MDT
DTSTART:20270314T090000
END:DAYLIGHT
BEGIN:STANDARD
TZOFFSETFROM:-0600
TZOFFSETTO:-0700
TZNAME:MST
DTSTART:20271107T080000
END:STANDARD
END:VTIMEZONE
BEGIN:VEVENT
DTSTART;TZID=America/Denver:20260509T110000
DTEND;TZID=America/Denver:20260509T140000
DTSTAMP:20260424T101404
CREATED:20260422T181002Z
LAST-MODIFIED:20260422T181002Z
UID:10224-1778324400-1778335200@events.localnews8.com
SUMMARY:NAMIWalks Pocatello 2026
DESCRIPTION:What is NAMIWalks Pocatello?• It is our most vibrant event of the year!• In 2025\, over 400+ joined our walks across the state and raised over $40\,000• The event aims to promote awareness of mental health\, reduce stigma\, and continue 100% free programs to the community \nThe event will have a tie-dye station\, face painting\, music by DJ Adrian and a raffle. Money raised will fund mental health initiatives and programs in Pocatello for the organization. The Pocatello Free Clinic will also be participating in the walk. \nThe event is free to attend and donations are encouraged. To register before the event go to: www.namiwalks.org/pocatello
URL:https://events.localnews8.com/event/namiwalks-pocatello-2026/
LOCATION:O.K. Ward Park/Brooklyn’s Playground\, 1400 W Quinn Rd\, Pocatello\, 83202
CATEGORIES:Community,Fundraisers and Galas,Health and Wellness
ATTACH;FMTTYPE=image/jpeg:https://events.localnews8.com/wp-content/uploads/2026/04/NAMIWalks-Pocatello-Community-Flyer-2026-3-scaled.jpg
ORGANIZER;CN="NAMI Idaho":MAILTO:operations@namiidaho.org
END:VEVENT
END:VCALENDAR