BEGIN:VCALENDAR
VERSION:2.0
PRODID:-//Local News 8 Events - ECPv6.15.20//NONSGML v1.0//EN
CALSCALE:GREGORIAN
METHOD:PUBLISH
X-ORIGINAL-URL:https://events.localnews8.com
X-WR-CALDESC:Events for Local News 8 Events
REFRESH-INTERVAL;VALUE=DURATION:PT1H
X-Robots-Tag:noindex
X-PUBLISHED-TTL:PT1H
BEGIN:VTIMEZONE
TZID:America/Denver
BEGIN:DAYLIGHT
TZOFFSETFROM:-0700
TZOFFSETTO:-0600
TZNAME:MDT
DTSTART:20230312T090000
END:DAYLIGHT
BEGIN:STANDARD
TZOFFSETFROM:-0600
TZOFFSETTO:-0700
TZNAME:MST
DTSTART:20231105T080000
END:STANDARD
BEGIN:DAYLIGHT
TZOFFSETFROM:-0700
TZOFFSETTO:-0600
TZNAME:MDT
DTSTART:20240310T090000
END:DAYLIGHT
BEGIN:STANDARD
TZOFFSETFROM:-0600
TZOFFSETTO:-0700
TZNAME:MST
DTSTART:20241103T080000
END:STANDARD
BEGIN:DAYLIGHT
TZOFFSETFROM:-0700
TZOFFSETTO:-0600
TZNAME:MDT
DTSTART:20250309T090000
END:DAYLIGHT
BEGIN:STANDARD
TZOFFSETFROM:-0600
TZOFFSETTO:-0700
TZNAME:MST
DTSTART:20251102T080000
END:STANDARD
BEGIN:DAYLIGHT
TZOFFSETFROM:-0700
TZOFFSETTO:-0600
TZNAME:MDT
DTSTART:20260308T090000
END:DAYLIGHT
BEGIN:STANDARD
TZOFFSETFROM:-0600
TZOFFSETTO:-0700
TZNAME:MST
DTSTART:20261101T080000
END:STANDARD
END:VTIMEZONE
BEGIN:VEVENT
DTSTART;TZID=America/Denver:20250329T140000
DTEND;TZID=America/Denver:20250329T180000
DTSTAMP:20260423T032050
CREATED:20250321T144550Z
LAST-MODIFIED:20250321T144550Z
UID:7472-1743256800-1743271200@events.localnews8.com
SUMMARY:Shelley Senior Community Center Bingo Fundraiser
DESCRIPTION:The Shelley Senior Community Center is holding a Bingo Fundraiser to help collect funds toward a new 15 passenger van for the center. Shelley Seniors is 501c3 non-profit. We serve the community of North Bingham County and surrounding areas. We will be serving a choice of Cheeseburgers or Chicken Burgers with Crispy Tater Tots with a Fixings Bar. Lemonade\, Ice Tea or coffee is provided with purchase of a meal. Family Friendly\, must be 18 or older to play bingo
URL:https://events.localnews8.com/event/shelley-senior-community-center-bingo-fundraiser/
LOCATION:193 W. Pine St.\, Shelley Idaho 83274\, 193 W PINE ST\, SHELLEY\, ID\, 83274\, United States
CATEGORIES:Community
ATTACH;FMTTYPE=image/png:https://events.localnews8.com/wp-content/uploads/2025/03/Black-and-Yellow-Illustrative-Bingo-Night-Instagram-Post-1.png
END:VEVENT
BEGIN:VEVENT
DTSTART;TZID=America/Denver:20240629T110000
DTEND;TZID=America/Denver:20240629T140000
DTSTAMP:20260423T032050
CREATED:20240607T175246Z
LAST-MODIFIED:20240607T175246Z
UID:5059-1719658800-1719669600@events.localnews8.com
SUMMARY:Shelley Senior Center Street Sale
DESCRIPTION:This is a Garage/Street Sale to fundraise for new 15 passenger van for the Shelley Senior Center. We will selling some great items\, having a raffle and serving hotdogs and baked goods.
URL:https://events.localnews8.com/event/shelley-senior-center-street-sale/2024-06-29/
LOCATION:193 W. Pine St.\, Shelley Idaho 83274\, 193 W PINE ST\, SHELLEY\, ID\, 83274\, United States
CATEGORIES:Community
ATTACH;FMTTYPE=image/jpeg:https://events.localnews8.com/wp-content/uploads/2024/06/StreetSale.jpg
END:VEVENT
BEGIN:VEVENT
DTSTART;TZID=America/Denver:20240628T160000
DTEND;TZID=America/Denver:20240628T190000
DTSTAMP:20260423T032050
CREATED:20240607T175246Z
LAST-MODIFIED:20240607T175246Z
UID:5057-1719590400-1719601200@events.localnews8.com
SUMMARY:Shelley Senior Center Street Sale
DESCRIPTION:This is a Garage/Street Sale to fundraise for new 15 passenger van for the Shelley Senior Center. We will selling some great items\, having a raffle and serving hotdogs and baked goods.
URL:https://events.localnews8.com/event/shelley-senior-center-street-sale/2024-06-28/
LOCATION:193 W. Pine St.\, Shelley Idaho 83274\, 193 W PINE ST\, SHELLEY\, ID\, 83274\, United States
CATEGORIES:Community
ATTACH;FMTTYPE=image/jpeg:https://events.localnews8.com/wp-content/uploads/2024/06/StreetSale.jpg
END:VEVENT
BEGIN:VEVENT
DTSTART;TZID=America/Denver:20240302T090000
DTEND;TZID=America/Denver:20240302T150000
DTSTAMP:20260423T032050
CREATED:20240228T170316Z
LAST-MODIFIED:20240228T170316Z
UID:4651-1709370000-1709391600@events.localnews8.com
SUMMARY:Leap Into Spring Craft Fair
DESCRIPTION:The Shelley Senior Center @ 193 W. Pine\, Shelley Idaho \nCraft Fair and Luncheon. \nWill feature Many Vendors and serving fresh made homemade soups \nHam & Potato Soup \nRoasted Tomato Soup \nChicken Noodle Soup \nGumbo \nRoasted Butternut Squash \nBake Sale \nAll proceeds go to support the Shelley Senior Community Center.
URL:https://events.localnews8.com/event/leap-into-spring-craft-fair/
CATEGORIES:Fairs and Festivals,Food and Drink,Fundraisers and Galas
ATTACH;FMTTYPE=image/jpeg:https://events.localnews8.com/wp-content/uploads/2024/02/IMG_4784-2.jpeg
END:VEVENT
END:VCALENDAR