BEGIN:VCALENDAR
VERSION:2.0
PRODID:-//Local News 8 Events - ECPv6.15.20//NONSGML v1.0//EN
CALSCALE:GREGORIAN
METHOD:PUBLISH
X-ORIGINAL-URL:https://events.localnews8.com
X-WR-CALDESC:Events for Local News 8 Events
REFRESH-INTERVAL;VALUE=DURATION:PT1H
X-Robots-Tag:noindex
X-PUBLISHED-TTL:PT1H
BEGIN:VTIMEZONE
TZID:America/Denver
BEGIN:DAYLIGHT
TZOFFSETFROM:-0700
TZOFFSETTO:-0600
TZNAME:MDT
DTSTART:20210314T090000
END:DAYLIGHT
BEGIN:STANDARD
TZOFFSETFROM:-0600
TZOFFSETTO:-0700
TZNAME:MST
DTSTART:20211107T080000
END:STANDARD
BEGIN:DAYLIGHT
TZOFFSETFROM:-0700
TZOFFSETTO:-0600
TZNAME:MDT
DTSTART:20220313T090000
END:DAYLIGHT
BEGIN:STANDARD
TZOFFSETFROM:-0600
TZOFFSETTO:-0700
TZNAME:MST
DTSTART:20221106T080000
END:STANDARD
BEGIN:DAYLIGHT
TZOFFSETFROM:-0700
TZOFFSETTO:-0600
TZNAME:MDT
DTSTART:20230312T090000
END:DAYLIGHT
BEGIN:STANDARD
TZOFFSETFROM:-0600
TZOFFSETTO:-0700
TZNAME:MST
DTSTART:20231105T080000
END:STANDARD
BEGIN:DAYLIGHT
TZOFFSETFROM:-0700
TZOFFSETTO:-0600
TZNAME:MDT
DTSTART:20240310T090000
END:DAYLIGHT
BEGIN:STANDARD
TZOFFSETFROM:-0600
TZOFFSETTO:-0700
TZNAME:MST
DTSTART:20241103T080000
END:STANDARD
BEGIN:DAYLIGHT
TZOFFSETFROM:-0700
TZOFFSETTO:-0600
TZNAME:MDT
DTSTART:20250309T090000
END:DAYLIGHT
BEGIN:STANDARD
TZOFFSETFROM:-0600
TZOFFSETTO:-0700
TZNAME:MST
DTSTART:20251102T080000
END:STANDARD
BEGIN:DAYLIGHT
TZOFFSETFROM:-0700
TZOFFSETTO:-0600
TZNAME:MDT
DTSTART:20260308T090000
END:DAYLIGHT
BEGIN:STANDARD
TZOFFSETFROM:-0600
TZOFFSETTO:-0700
TZNAME:MST
DTSTART:20261101T080000
END:STANDARD
END:VTIMEZONE
BEGIN:VEVENT
DTSTART;TZID=America/Denver:20251101T100000
DTEND;TZID=America/Denver:20251101T140000
DTSTAMP:20260422T032845
CREATED:20251028T180515Z
LAST-MODIFIED:20251028T180515Z
UID:9079-1761991200-1762005600@events.localnews8.com
SUMMARY:Community Day: Día de los Muertos
DESCRIPTION:Join us for a free day of creativity and fun at The Art Museum of Eastern Idaho! \n¡Únase a nosotros para un día gratuito de creatividad y diversión en el Museo de Arte del Este de Idaho!
URL:https://events.localnews8.com/event/community-day-dia-de-los-muertos/
LOCATION:The Art Museum of Eastern Idaho\, 300 S Capital Ave.\, Idaho Falls\, 83402
CATEGORIES:Art and Exhibits,Community,Education
ATTACH;FMTTYPE=image/png:https://events.localnews8.com/wp-content/uploads/2025/10/Dia-De-Los-Muertos-TAM-Community-Day.png
END:VEVENT
BEGIN:VEVENT
DTSTART;TZID=America/Denver:20221012T153000
DTEND;TZID=America/Denver:20221102T163000
DTSTAMP:20260422T032845
CREATED:20220830T204218Z
LAST-MODIFIED:20220830T204218Z
UID:976-1665588600-1667406600@events.localnews8.com
SUMMARY:ARTISTIC ADVENTURE I: Oct 12 - Nov 2; Ages 9 - 13
DESCRIPTION:ARTISTIC ADVENTURE I: Oct 12 – Nov 2; Ages 9 – 13 \nWednesdays\, 3:30 – 4:30 pm with Nikki Johnson \n  \nExplore drawing and mark making using line to draw real and imagined worlds. \nFour weekly one-hour classes per session. \n  \n$30 TAM Members\, $35 Non-Members \nPre-registration is required. \n  \nhttps://www.theartmuseum.org/Products/artistic-adventure-oct-12–nov-2-ages-9–13 \n  \nThe Art Museum of Eastern Idaho \n300 S. Capital Ave. \nIdaho Falls\, ID 83402 \nPhone: (208) 524 -7777
URL:https://events.localnews8.com/event/artistic-adventure-i-oct-12-nov-2-ages-9-13/2022-10-12/
LOCATION:The Art Museum of Eastern Idaho\, 300 S Capital Ave.\, Idaho Falls\, 83402
CATEGORIES:Art and Exhibits,Education
ATTACH;FMTTYPE=image/jpeg:https://events.localnews8.com/wp-content/uploads/2022/08/Artistic-Adventure-Oct-2.jpg
END:VEVENT
BEGIN:VEVENT
DTSTART;TZID=America/Denver:20221012T153000
DTEND;TZID=America/Denver:20221102T163000
DTSTAMP:20260422T032845
CREATED:20220830T185150Z
LAST-MODIFIED:20220830T185150Z
UID:971-1665588600-1667406600@events.localnews8.com
SUMMARY:ARTISTIC ADVENTURE I : Oct 12 - Nov 2; Ages 6 - 8
DESCRIPTION:ARTISTIC ADVENTURE I : Oct 12 – Nov 2; Ages 6 – 8 \nWednesdays\, 3:30 – 4:30 pm with Alexa Stanger \n  \nExplore drawing and mark making using line to draw real and imagined worlds. \nFour weekly one-hour classes per session.  \n  \n$30 TAM Members\, $35 Non-Members \nPre-registration is required. \n  \nhttps://www.theartmuseum.org/Products/artistic-adventure-oct-12–nov-2-ages-6–8 \n  \nThe Art Museum of Eastern Idaho \n300 S. Capital Ave. \nIdaho Falls\, ID 83402 \nPhone: (208) 524 -7777
URL:https://events.localnews8.com/event/artistic-adventure-i-oct-12-nov-2-ages-6-8/2022-10-12/
LOCATION:The Art Museum of Eastern Idaho\, 300 S Capital Ave.\, Idaho Falls\, 83402
CATEGORIES:Art and Exhibits,Education
ATTACH;FMTTYPE=image/jpeg:https://events.localnews8.com/wp-content/uploads/2022/08/Artistic-Adventure-Oct.jpg
END:VEVENT
BEGIN:VEVENT
DTSTART;TZID=America/Denver:20221008T100000
DTEND;TZID=America/Denver:20221008T110000
DTSTAMP:20260422T032845
CREATED:20220830T182753Z
LAST-MODIFIED:20220830T182753Z
UID:969-1665223200-1665226800@events.localnews8.com
SUMMARY:MUD CLUB: *Ages 4-9
DESCRIPTION:Mud Club: Ages 4 – 9* \nSaturday\, October 8\, 2022 10:00 – 11:00 am \n  \nUnearth the joys of creating with clay! Construct fun and functional pottery on Saturdays at The Art Museum. *Children ages 4 – 6 are required to be accompanied by their favorite grownup. \n  \n$15 TAM Members\, $20 Non-Members \nPre-registration is required. \n  \nhttps://www.theartmuseum.org/Products/mud-club-october-8  \n  \nThe Art Museum of Eastern Idaho \n300 S. Capital Ave. \nIdaho Falls\, ID 83402 \nPhone: (208) 524 -7777
URL:https://events.localnews8.com/event/mud-club-ages-4-9/
LOCATION:The Art Museum of Eastern Idaho\, 300 S Capital Ave.\, Idaho Falls\, 83402
ATTACH;FMTTYPE=image/jpeg:https://events.localnews8.com/wp-content/uploads/2022/08/Mud-Club.jpg
END:VEVENT
BEGIN:VEVENT
DTSTART;TZID=America/Denver:20220725T090000
DTEND;TZID=America/Denver:20220728T163000
DTSTAMP:20260422T032845
CREATED:20220524T213553Z
LAST-MODIFIED:20220524T213553Z
UID:745-1658739600-1659025800@events.localnews8.com
SUMMARY:ARTWORKS Summer Workshop for Educators
DESCRIPTION:ARTWORKS Summer Workshop for Educators \nJuly 25 – 28\, 2022 \nMon – Thurs\, 9 am – 4:30 pm \nThis four-day workshop is designed for educators who are interested in hands-on learning in the visual arts. Course curriculum is designed for the needs of teachers who would like to explore simple and practical art processes that can be easily applied to their classroom. In addition\, this class will highlight inexpensive yet quality tools and art materials teachers can access and use throughout the school year. One or two BSU course credits available\, $60 per credit. \n  \n$75 TAM Members\, $90 Non-Members \nLimited scholarships available. Contact Alexa Stanger 208-524-7777 or astanger@theartmuseum.org. \nPre-registration is required. Class size is limited. \n  \nThe Art Museum of Eastern Idaho \n300 S. Capital Ave. \nIdaho Falls\, ID 83402 \nPhone: (208) 524 -7777
URL:https://events.localnews8.com/event/artworks-summer-workshop-for-educators/
LOCATION:The Art Museum of Eastern Idaho\, 300 S Capital Ave.\, Idaho Falls\, 83402
CATEGORIES:Art and Exhibits,Community,Education
ATTACH;FMTTYPE=image/jpeg:https://events.localnews8.com/wp-content/uploads/2022/05/Summer-Workshop.jpg
END:VEVENT
BEGIN:VEVENT
DTSTART;TZID=America/Denver:20220720T090000
DTEND;TZID=America/Denver:20220723T163000
DTSTAMP:20260422T032845
CREATED:20220524T183055Z
LAST-MODIFIED:20220524T183055Z
UID:742-1658307600-1658593800@events.localnews8.com
SUMMARY:Power Tools for Powerful Paintings with Gloria Miller Allen
DESCRIPTION:Power Tools for Powerful Paintings with Gloria Miller Allen \nJuly 20 – 23 \nWed – Sat\, 9 am – 4:30 pm \nJoin AWS & NWS Signature Member Gloria Miller Allen in gaining a firm grasp of the basic “power tools” of color\, value\, composition and perspective to help you more freely express your personal style and vision. Discover a real awareness of personal strengths\, weaknesses\, preferences and emerging style. All media and levels of experience are welcome. \n  \n$260 TAM Members \n$285 Non-Members \n  \nSupply list available. \nPre-registration is required. \n  \nThe Art Museum of Eastern Idaho \n300 S. Capital Ave. \nIdaho Falls\, ID 83402 \nPhone: (208) 524 -7777
URL:https://events.localnews8.com/event/power-tools-for-powerful-paintings-with-gloria-miller-allen/
LOCATION:The Art Museum of Eastern Idaho\, 300 S Capital Ave.\, Idaho Falls\, 83402
ATTACH;FMTTYPE=image/jpeg:https://events.localnews8.com/wp-content/uploads/2022/05/Gloria-Worskshop.jpg
END:VEVENT
BEGIN:VEVENT
DTSTART;TZID=America/Denver:20220603T190000
DTEND;TZID=America/Denver:20220603T210000
DTSTAMP:20260422T032845
CREATED:20220513T183419Z
LAST-MODIFIED:20220513T183419Z
UID:730-1654282800-1654290000@events.localnews8.com
SUMMARY:ART and ALE
DESCRIPTION:ART and ALE \nJune 3\, 2022  \n7:00-9:00 PM \nEnjoy BEER\, music\, good friends & ART on the eve of the Mountain Brewers’ Beer Fest! Celebrate The North American Brewers Association “Idaho Beer Week” by collecting original\, hand-painted growlers by Idaho artists for your favorite handcrafted brews! \n*Must be 21 years of age or older \n$10 admission \nSponsored by TEC Distributing of Idaho\, LLC \n  \nLOCATION: \nThe Art Museum of Eastern Idaho \n300 S. Capital Ave. \nIdaho Falls\, ID 83402 \nPhone: (208) 524 -7777
URL:https://events.localnews8.com/event/art-and-ale/
LOCATION:The Art Museum of Eastern Idaho\, 300 S Capital Ave.\, Idaho Falls\, 83402
CATEGORIES:Art and Exhibits,Community,Food and Drink,Music
ATTACH;FMTTYPE=image/jpeg:https://events.localnews8.com/wp-content/uploads/2022/05/Art-Ale.jpg
END:VEVENT
BEGIN:VEVENT
DTSTART;TZID=America/Denver:20220514T100000
DTEND;TZID=America/Denver:20220514T110000
DTSTAMP:20260422T032845
CREATED:20220415T203316Z
LAST-MODIFIED:20220415T203316Z
UID:608-1652522400-1652526000@events.localnews8.com
SUMMARY:MUD CLUB
DESCRIPTION:MUD CLUB \nMay 14\, 2022 \nSaturday\, 10:00 – 11:00 am \nAges 4 – 9* \nUnearth the joys of creating with clay! Construct fun and functional pottery on Saturdays at The Art Museum. *Children ages 4 – 6 are required to be accompanied by their favorite grownup. \n$15 TAM Members\, $20 Non-Members \nPre-registration is required. \n  \n300 S. Capital Ave. \nIdaho Falls\, ID 83402 \nPhone: (208) 524 -7777
URL:https://events.localnews8.com/event/mud-club/
LOCATION:The Art Museum of Eastern Idaho\, 300 S Capital Ave.\, Idaho Falls\, 83402
CATEGORIES:Art and Exhibits,Education
ATTACH;FMTTYPE=image/jpeg:https://events.localnews8.com/wp-content/uploads/2022/04/Mud-Club-2.jpg
END:VEVENT
BEGIN:VEVENT
DTSTART;TZID=America/Denver:20220504T153000
DTEND;TZID=America/Denver:20220504T163000
DTSTAMP:20260422T032845
CREATED:20220415T180346Z
LAST-MODIFIED:20220415T180346Z
UID:602-1651678200-1651681800@events.localnews8.com
SUMMARY:ARTISTIC ADVENTURE VIII: May 4 - 25th
DESCRIPTION:ARTISTIC ADVENTURE VIII \nMay 4 – 25\, 2022 \nWednesdays\, 3:30 – 4:30 pm\, Ages 6 – 13  \n  \nYoung artists explore color theory\,  line\, texture and form through  fun and unusual drawing\, painting\,  printmaking and sculptural processes. \n  \nFour weekly one-hour classes per session.  \n  \n$30 TAM Members\, $35 Non-Members \nPre-registration is required. \n  \nhttps://www.theartmuseum.org/Products/artistic-adventure-viii-may-4–24  \n  \n300 S. Capital Ave. \nIdaho Falls\, ID 83402 \nPhone: (208) 524 -7777
URL:https://events.localnews8.com/event/artistic-adventure-viii-may-4-25th/2022-05-04/
LOCATION:The Art Museum of Eastern Idaho\, 300 S Capital Ave.\, Idaho Falls\, 83402
CATEGORIES:Art and Exhibits,Education
ATTACH;FMTTYPE=image/jpeg:https://events.localnews8.com/wp-content/uploads/2022/04/Artistic-Adventure.jpg
END:VEVENT
BEGIN:VEVENT
DTSTART;TZID=America/Denver:20220409T100000
DTEND;TZID=America/Denver:20220430T170000
DTSTAMP:20260422T032845
CREATED:20220412T170209Z
LAST-MODIFIED:20220412T170209Z
UID:594-1649498400-1651338000@events.localnews8.com
SUMMARY:Young at ART
DESCRIPTION:Young at ART\nApril 9 – 30\, 2022\nCelebrating TAM’s ARTworks education program in schools across eastern Idaho\, this annual exhibit showcases hundreds of pieces of artwork from school children throughout the region. ​ \nAdmission is FREE! \n  \nAlso featuring . . . \n2022 Congressional Art Competition \nContest finalists represent excellence in high school art. The winning piece will hang in Washington DC. \nSponsored by Congressman Mike Simpson  \n  \nExhibit sponsors: \nIdaho Environmental Coalition \nPost Register Newspaper in Education \n  \nHours: \nTUES – FRI • 10 AM – 5 PM \nSAT • 10 AM – 4 PM \n  \nhttps://www.theartmuseum.org/  \n300 S. Capital Ave. \nIdaho Falls\, ID 83402 \nPhone: (208) 524 -7777
URL:https://events.localnews8.com/event/young-at-art/
LOCATION:The Art Museum of Eastern Idaho\, 300 S Capital Ave.\, Idaho Falls\, 83402
CATEGORIES:Art and Exhibits,Community,Education
ATTACH;FMTTYPE=image/jpeg:https://events.localnews8.com/wp-content/uploads/2022/04/YAA2022_Cover.jpg
END:VEVENT
END:VCALENDAR